BEGIN:VCALENDAR
VERSION:2.0
PRODID:-//Gospel Quizes - ECPv6.15.13//NONSGML v1.0//EN
CALSCALE:GREGORIAN
METHOD:PUBLISH
X-WR-CALNAME:Gospel Quizes
X-ORIGINAL-URL:https://gospelthrills.com
X-WR-CALDESC:Events for Gospel Quizes
REFRESH-INTERVAL;VALUE=DURATION:PT1H
X-Robots-Tag:noindex
X-PUBLISHED-TTL:PT1H
BEGIN:VTIMEZONE
TZID:UTC
BEGIN:STANDARD
TZOFFSETFROM:+0000
TZOFFSETTO:+0000
TZNAME:UTC
DTSTART:20290101T000000
END:STANDARD
END:VTIMEZONE
BEGIN:VEVENT
DTSTART;TZID=UTC:20300605T190000
DTEND;TZID=UTC:20300605T210000
DTSTAMP:20260422T101906
CREATED:20251223T014432Z
LAST-MODIFIED:20251223T014432Z
UID:10000232-1906916400-1906923600@gospelthrills.com
SUMMARY:Mid-Week Service
DESCRIPTION:
URL:https://gospelthrills.com/event/mid-week-service/2030-06-05/
LOCATION:New Covenant Church Edmonton\, 65 Church St\, London N9 9PY\, United Kingdom\, United Kingdom
ATTACH;FMTTYPE=image/webp:https://gospelthrills.com/wp-content/uploads/2025/12/WhatsApp-Image-2025-07-31-at-9.24.53-pm.webp
END:VEVENT
BEGIN:VEVENT
DTSTART;TZID=UTC:20300612T190000
DTEND;TZID=UTC:20300612T210000
DTSTAMP:20260422T101906
CREATED:20251223T014432Z
LAST-MODIFIED:20251223T014432Z
UID:10000233-1907521200-1907528400@gospelthrills.com
SUMMARY:Mid-Week Service
DESCRIPTION:
URL:https://gospelthrills.com/event/mid-week-service/2030-06-12/
LOCATION:New Covenant Church Edmonton\, 65 Church St\, London N9 9PY\, United Kingdom\, United Kingdom
ATTACH;FMTTYPE=image/webp:https://gospelthrills.com/wp-content/uploads/2025/12/WhatsApp-Image-2025-07-31-at-9.24.53-pm.webp
END:VEVENT
BEGIN:VEVENT
DTSTART;TZID=UTC:20300619T190000
DTEND;TZID=UTC:20300619T210000
DTSTAMP:20260422T101906
CREATED:20251223T014432Z
LAST-MODIFIED:20251223T014432Z
UID:10000234-1908126000-1908133200@gospelthrills.com
SUMMARY:Mid-Week Service
DESCRIPTION:
URL:https://gospelthrills.com/event/mid-week-service/2030-06-19/
LOCATION:New Covenant Church Edmonton\, 65 Church St\, London N9 9PY\, United Kingdom\, United Kingdom
ATTACH;FMTTYPE=image/webp:https://gospelthrills.com/wp-content/uploads/2025/12/WhatsApp-Image-2025-07-31-at-9.24.53-pm.webp
END:VEVENT
BEGIN:VEVENT
DTSTART;TZID=UTC:20300626T190000
DTEND;TZID=UTC:20300626T210000
DTSTAMP:20260422T101906
CREATED:20251223T014432Z
LAST-MODIFIED:20251223T014432Z
UID:10000235-1908730800-1908738000@gospelthrills.com
SUMMARY:Mid-Week Service
DESCRIPTION:
URL:https://gospelthrills.com/event/mid-week-service/2030-06-26/
LOCATION:New Covenant Church Edmonton\, 65 Church St\, London N9 9PY\, United Kingdom\, United Kingdom
ATTACH;FMTTYPE=image/webp:https://gospelthrills.com/wp-content/uploads/2025/12/WhatsApp-Image-2025-07-31-at-9.24.53-pm.webp
END:VEVENT
END:VCALENDAR